BEGIN:VCALENDAR
VERSION:2.0
PRODID:-//Kirkwood Public Library - ECPv6.15.20//NONSGML v1.0//EN
CALSCALE:GREGORIAN
METHOD:PUBLISH
X-WR-CALNAME:Kirkwood Public Library
X-ORIGINAL-URL:https://kplmo.org
X-WR-CALDESC:Events for Kirkwood Public Library
REFRESH-INTERVAL;VALUE=DURATION:PT1H
X-Robots-Tag:noindex
X-PUBLISHED-TTL:PT1H
BEGIN:VTIMEZONE
TZID:America/Chicago
BEGIN:DAYLIGHT
TZOFFSETFROM:-0600
TZOFFSETTO:-0500
TZNAME:CDT
DTSTART:20250309T080000
END:DAYLIGHT
BEGIN:STANDARD
TZOFFSETFROM:-0500
TZOFFSETTO:-0600
TZNAME:CST
DTSTART:20251102T070000
END:STANDARD
BEGIN:DAYLIGHT
TZOFFSETFROM:-0600
TZOFFSETTO:-0500
TZNAME:CDT
DTSTART:20260308T080000
END:DAYLIGHT
BEGIN:STANDARD
TZOFFSETFROM:-0500
TZOFFSETTO:-0600
TZNAME:CST
DTSTART:20261101T070000
END:STANDARD
BEGIN:DAYLIGHT
TZOFFSETFROM:-0600
TZOFFSETTO:-0500
TZNAME:CDT
DTSTART:20270314T080000
END:DAYLIGHT
BEGIN:STANDARD
TZOFFSETFROM:-0500
TZOFFSETTO:-0600
TZNAME:CST
DTSTART:20271107T070000
END:STANDARD
END:VTIMEZONE
BEGIN:VEVENT
DTSTART;TZID=America/Chicago:20260505T190000
DTEND;TZID=America/Chicago:20260505T200000
DTSTAMP:20260420T112436
CREATED:20260331T164838Z
LAST-MODIFIED:20260331T164840Z
UID:10001861-1778007600-1778011200@kplmo.org
SUMMARY:Book Club At the End of the Universe
DESCRIPTION:Join as we discuss\, Gods of Jade and Shadow by Silvia Moreno-Garcia. This is an in person event and will take place in the meeting room at the lower level of the library.
URL:https://kplmo.org/event/book-club-at-the-end-of-the-universe-4/
CATEGORIES:Adult Programs
ATTACH;FMTTYPE=image/png:https://kplmo.org/wp-content/uploads/2025/03/BCATEOTU-book-club-1200-×-675-px.png
END:VEVENT
BEGIN:VEVENT
DTSTART;TZID=America/Chicago:20260507T130000
DTEND;TZID=America/Chicago:20260507T140000
DTSTAMP:20260420T112436
CREATED:20250725T162845Z
LAST-MODIFIED:20250914T191853Z
UID:10001471-1778158800-1778162400@kplmo.org
SUMMARY:Reader's Circle Book Club
DESCRIPTION:This Month’s book is Horse by Geraldine Brooks. \n\n\n\nOur Reader’s Circle Book Club is run by our library Volunteers. They meet 5 times per year at 1PM in the lower level meeting room. Open to everyone.
URL:https://kplmo.org/event/readers-circle-book-club-6/
CATEGORIES:Adult Programs
ATTACH;FMTTYPE=image/png:https://kplmo.org/wp-content/uploads/2025/07/2025-2026-Readers-Circle-book-club-web-1.png
END:VEVENT
BEGIN:VEVENT
DTSTART;TZID=America/Chicago:20260513T190000
DTEND;TZID=America/Chicago:20260513T200000
DTSTAMP:20260420T112436
CREATED:20260331T191139Z
LAST-MODIFIED:20260331T191139Z
UID:10002052-1778698800-1778702400@kplmo.org
SUMMARY:Pandora's Book Club
DESCRIPTION:The list below are the books we will be discussing every month between May to August.  We meet on the second Wednesday of every month at 7 pm. \n\n\n\nMay 13  The Payback by Kashana Cualey \n\n\n\nJune 10  The New Kid by Jerry Craft \n\n\n\nJuly 8   Cinderella is Dead by Kaylynn Bayron \n\n\n\nAugust 12  Water for Elephants by Sara Gruen
URL:https://kplmo.org/event/pandoras-book-club-7/
CATEGORIES:Adult Programs
ATTACH;FMTTYPE=image/png:https://kplmo.org/wp-content/uploads/2023/04/Pandoras-book-club.png
END:VEVENT
BEGIN:VEVENT
DTSTART;TZID=America/Chicago:20260520T140000
DTEND;TZID=America/Chicago:20260520T150000
DTSTAMP:20260420T112436
CREATED:20260331T180946Z
LAST-MODIFIED:20260331T180947Z
UID:10002046-1779285600-1779289200@kplmo.org
SUMMARY:Mystery Readers Book Club
DESCRIPTION:The list below are the books we will be discussing every month between May – August 2026.  We meet on the third Wednesday of every month at 2 pm. \n\n\n\nMay 20  The Postscripts Murders by Elly Griffiths \n\n\n\nJune 17  This is Not a Game by Kelly Mullen \n\n\n\nJuly 15  The Grave Tattoo by Val McDermid \n\n\n\nAugust 19  The Librarians by Sherry Thomas
URL:https://kplmo.org/event/mystery-readers-book-club-4/
CATEGORIES:Adult Programs
ATTACH;FMTTYPE=image/png:https://kplmo.org/wp-content/uploads/2023/04/Mystery-Reader.png
END:VEVENT
BEGIN:VEVENT
DTSTART;TZID=America/Chicago:20260521T190000
DTEND;TZID=America/Chicago:20260521T203000
DTSTAMP:20260420T112436
CREATED:20250923T150341Z
LAST-MODIFIED:20250923T150343Z
UID:10001631-1779390000-1779395400@kplmo.org
SUMMARY:Community for Understanding and Hope Book Group
DESCRIPTION:This month we are reading We Are Not Like Them by Christine Pride and Jo Piazza \n\n\n\nCopies of this title can be found at the Kirkwood Public Library.  Check if one is available by calling 314-821-5770 and selecting option 3 or emailing mel@kplmo.org! \n\n\n\nIn the quest to transform the Kirkwood area into a prejudice-free community of highly respectful individuals\, CFUH initiates ongoing dialogue and social interaction to create an environment of understanding and healing.  Questions? Email Joy Weese Moll at cfuhbookgroup@gmail.com \n\n\n\nThis group is co-sponsored by Kirkwood Public Library.
URL:https://kplmo.org/event/community-for-understanding-and-hope-book-group-8/
CATEGORIES:Adult Programs
ATTACH;FMTTYPE=image/png:https://kplmo.org/wp-content/uploads/2023/04/CFUH-book-club-1200-×-675-px.png
END:VEVENT
BEGIN:VEVENT
DTSTART;TZID=America/Chicago:20260526T120000
DTEND;TZID=America/Chicago:20260526T130000
DTSTAMP:20260420T112436
CREATED:20260412T185139Z
LAST-MODIFIED:20260412T185141Z
UID:10002107-1779796800-1779800400@kplmo.org
SUMMARY:The Amblin’ Audiobook Club
DESCRIPTION:Step outside\, stretch your legs\, and enjoy the story you’re already listening to! Join us for a relaxed 30-minute walk over the lunch hour. We’ll meet at the Library (140 E. Jefferson Ave) and head out together—everyone brings their own audiobook\, podcast\, or whatever they’re currently enjoying. No assigned reading\, no pressure\, just fresh air\, light movement\, and good company. \n\n\n\nWe’ll leave promptly at 12:15 and be back at 12:45. \n\n\n\nThis club will take place the last Tuesday of the Month April – October. If it rains\, the event will be canceled that month. Register for updates and reminders.
URL:https://kplmo.org/event/the-amblin-audiobook-club-2/
CATEGORIES:Adult Programs
ATTACH;FMTTYPE=image/png:https://kplmo.org/wp-content/uploads/2025/12/Amblin-Audiobook-Club.png
END:VEVENT
END:VCALENDAR